BEGIN:VCALENDAR
VERSION:2.0
PRODID:-//MPZ Dresden - ECPv6.15.20//NONSGML v1.0//EN
CALSCALE:GREGORIAN
METHOD:PUBLISH
X-WR-CALNAME:MPZ Dresden
X-ORIGINAL-URL:https://www.mpz-dresden.de
X-WR-CALDESC:Veranstaltungen für MPZ Dresden
REFRESH-INTERVAL;VALUE=DURATION:PT1H
X-Robots-Tag:noindex
X-PUBLISHED-TTL:PT1H
BEGIN:VTIMEZONE
TZID:Europe/Berlin
BEGIN:DAYLIGHT
TZOFFSETFROM:+0100
TZOFFSETTO:+0200
TZNAME:CEST
DTSTART:20240331T010000
END:DAYLIGHT
BEGIN:STANDARD
TZOFFSETFROM:+0200
TZOFFSETTO:+0100
TZNAME:CET
DTSTART:20241027T010000
END:STANDARD
BEGIN:DAYLIGHT
TZOFFSETFROM:+0100
TZOFFSETTO:+0200
TZNAME:CEST
DTSTART:20250330T010000
END:DAYLIGHT
BEGIN:STANDARD
TZOFFSETFROM:+0200
TZOFFSETTO:+0100
TZNAME:CET
DTSTART:20251026T010000
END:STANDARD
BEGIN:DAYLIGHT
TZOFFSETFROM:+0100
TZOFFSETTO:+0200
TZNAME:CEST
DTSTART:20260329T010000
END:DAYLIGHT
BEGIN:STANDARD
TZOFFSETFROM:+0200
TZOFFSETTO:+0100
TZNAME:CET
DTSTART:20261025T010000
END:STANDARD
END:VTIMEZONE
BEGIN:VEVENT
DTSTART;TZID=Europe/Berlin:20250116T140000
DTEND;TZID=Europe/Berlin:20250116T160000
DTSTAMP:20260421T113949
CREATED:20241030T152430Z
LAST-MODIFIED:20250106T132946Z
UID:5477-1737036000-1737043200@www.mpz-dresden.de
SUMMARY:beste.schule Anwendertreffen
DESCRIPTION:Zielgruppe: \n\n\n\nAktuelle und potenzielle Nutzer des digitalen Noten- und Klassenbuches von beste.schule \n\n\n\nInhalte: \n\n\n\n\nFörderung des direkten Austauschs zwischen Anwendern\n\n\n\nTeilen von Best Practices und Tipps zur effizienten Nutzung\n\n\n\nAufbau eines Netzwerks von Anwendern für gegenseitige Unterstützung\n\n\n\nSammeln von Ideen zur Weiterentwicklung der Software\n\n\n\n\n\n\n\n\nDatum und Uhrzeit\n\n\n\n\n\n\n\n\n\nIhr Dozent\n\n\n\n\n\nVeranstaltungsort\n\n\n\n\n\n\n\nHertha-Lindner-Str. 17 \n\n\n\n01067 Dresden \n\n\n\nRoutenplanung (Link zu graphhopper.com)
URL:https://www.mpz-dresden.de/event/beste-schule-anwendertreffen/
LOCATION:MPZ Dresden\, Hertha-Lindner-Str. 17\, Dresden\, Saxony\, 01067\, Germany
CATEGORIES:Anwendertreffen
ATTACH;FMTTYPE=image/png:https://www.mpz-dresden.de/wp-content/uploads/2024/10/Screenshot-2024-11-04-103319.png
END:VEVENT
END:VCALENDAR