BEGIN:VCALENDAR
VERSION:2.0
PRODID:-//MPZ Dresden - ECPv6.15.20//NONSGML v1.0//EN
CALSCALE:GREGORIAN
METHOD:PUBLISH
X-ORIGINAL-URL:https://www.mpz-dresden.de
X-WR-CALDESC:Veranstaltungen für MPZ Dresden
REFRESH-INTERVAL;VALUE=DURATION:PT1H
X-Robots-Tag:noindex
X-PUBLISHED-TTL:PT1H
BEGIN:VTIMEZONE
TZID:Europe/Berlin
BEGIN:DAYLIGHT
TZOFFSETFROM:+0100
TZOFFSETTO:+0200
TZNAME:CEST
DTSTART:20240331T010000
END:DAYLIGHT
BEGIN:STANDARD
TZOFFSETFROM:+0200
TZOFFSETTO:+0100
TZNAME:CET
DTSTART:20241027T010000
END:STANDARD
BEGIN:DAYLIGHT
TZOFFSETFROM:+0100
TZOFFSETTO:+0200
TZNAME:CEST
DTSTART:20250330T010000
END:DAYLIGHT
BEGIN:STANDARD
TZOFFSETFROM:+0200
TZOFFSETTO:+0100
TZNAME:CET
DTSTART:20251026T010000
END:STANDARD
BEGIN:DAYLIGHT
TZOFFSETFROM:+0100
TZOFFSETTO:+0200
TZNAME:CEST
DTSTART:20260329T010000
END:DAYLIGHT
BEGIN:STANDARD
TZOFFSETFROM:+0200
TZOFFSETTO:+0100
TZNAME:CET
DTSTART:20261025T010000
END:STANDARD
END:VTIMEZONE
BEGIN:VEVENT
DTSTART;TZID=Europe/Berlin:20250401T140000
DTEND;TZID=Europe/Berlin:20250401T153000
DTSTAMP:20260419T152553
CREATED:20250115T110838Z
LAST-MODIFIED:20250115T110840Z
UID:6963-1743516000-1743521400@www.mpz-dresden.de
SUMMARY:Einführung zu Smartboards der MX-Reihe
DESCRIPTION:Allgemeines: \n\n\n\nDiese Veranstaltung richtet sich an Lehrkräfte\, die erste Tipps für den Einsatz des Smartbords in Ihrem Unterricht erhalten möchten. \n\n\n\nDer Schwerpunkt liegt hier auf den technischen Aspekten. Die Teilnehmenden lernen Möglichkeiten kennen\, wie sie Ihr Windows-Lehrerendgerät mit dem Smartboard drahtlos verbinden und kennen die Vor- und Nachteile der verschiedenen Optionen. \n\n\n\nHinweis: \n\n\n\nBitte bringen Sie Ihr aufgeladenes Windows-Lehrerendgerät mit. \n\n\n\n\n\n\n\nDatum und Uhrzeit\n\n\n\n\n\n\n\n\n\nIhr Dozent\n\n\n\n\n\nVeranstaltungsort\n\n\n\n\n\n\n\nHertha-Lindner-Str. 17 \n\n\n\n01067 Dresden \n\n\n\nRoutenplanung (Link zu graphhopper.com)
URL:https://www.mpz-dresden.de/event/einfuehrung-zu-smartboards-der-mx-reihe/
LOCATION:MPZ Dresden\, Hertha-Lindner-Str. 17\, Dresden\, Saxony\, 01067\, Germany
CATEGORIES:Displays & Tafelsoftware
ATTACH;FMTTYPE=image/png:https://www.mpz-dresden.de/wp-content/uploads/2025/01/DOWNLOAD-9.png
ORGANIZER;CN="Helge Fleischer":MAILTO:helge.fleischer@mpz-dresden.lernsax.de
END:VEVENT
END:VCALENDAR