BEGIN:VCALENDAR
VERSION:2.0
PRODID:-//MPZ Dresden - ECPv6.15.20//NONSGML v1.0//EN
CALSCALE:GREGORIAN
METHOD:PUBLISH
X-WR-CALNAME:MPZ Dresden
X-ORIGINAL-URL:https://www.mpz-dresden.de
X-WR-CALDESC:Veranstaltungen für MPZ Dresden
REFRESH-INTERVAL;VALUE=DURATION:PT1H
X-Robots-Tag:noindex
X-PUBLISHED-TTL:PT1H
BEGIN:VTIMEZONE
TZID:Europe/Berlin
BEGIN:DAYLIGHT
TZOFFSETFROM:+0100
TZOFFSETTO:+0200
TZNAME:CEST
DTSTART:20240331T010000
END:DAYLIGHT
BEGIN:STANDARD
TZOFFSETFROM:+0200
TZOFFSETTO:+0100
TZNAME:CET
DTSTART:20241027T010000
END:STANDARD
BEGIN:DAYLIGHT
TZOFFSETFROM:+0100
TZOFFSETTO:+0200
TZNAME:CEST
DTSTART:20250330T010000
END:DAYLIGHT
BEGIN:STANDARD
TZOFFSETFROM:+0200
TZOFFSETTO:+0100
TZNAME:CET
DTSTART:20251026T010000
END:STANDARD
BEGIN:DAYLIGHT
TZOFFSETFROM:+0100
TZOFFSETTO:+0200
TZNAME:CEST
DTSTART:20260329T010000
END:DAYLIGHT
BEGIN:STANDARD
TZOFFSETFROM:+0200
TZOFFSETTO:+0100
TZNAME:CET
DTSTART:20261025T010000
END:STANDARD
END:VTIMEZONE
BEGIN:VEVENT
DTSTART;TZID=Europe/Berlin:20250410T100000
DTEND;TZID=Europe/Berlin:20250410T150000
DTSTAMP:20260419T152932
CREATED:20250115T093856Z
LAST-MODIFIED:20250313T193218Z
UID:6777-1744279200-1744297200@www.mpz-dresden.de
SUMMARY:Einsatz von Chatbots und Künstlicher Intelligenz im Schulalltag für Lehrkräfte an Grund- und Förderschulen
DESCRIPTION:Allgemeines: \n\n\n\nKünstliche Intelligenz übernimmt zunehmend auch alltägliche Aufgaben. Darüber hinaus gehört sie zum Erfahrungshorizont der Schülerinnen und Schüler. Viele Kinder und Jugendliche nutzen KI-gestützte Anwendungen in ihrem Alltag\, sei es in Form von Sprachassistenten\, personalisierten Lernplattformen oder sozialen Medien. In dieser Fortbildung werden die Teilnehmer in die grundlegenden Konzepte und Anwendungen von Chatbots und Künstlicher Intelligenz (KI) eingeführt. Der Fokus liegt darauf\, wie diese Technologien in den Bildungsbereich integriert werden können\, um den Unterricht zu bereichern und die Lernbedingungen zu verbessern. An praktischen Beispielen werden konkrete Anwendungsszenarien aufgezeigt. \n\n\n\nInhalte: \n\n\n\n\ngrundlegende Funktionsweise eines KI-Chatbot und Vorstellung aktueller Beispiele\n\n\n\nHerausforderungen und Grenzen von KI-Chatbots kennen\n\n\n\nKritische Reflexion über die Nutzung von KI im Unterricht und die Notwendigkeit der Überprüfung von Inhalten.\n\n\n\nGrundprinzipien bei der Arbeit mit Prompts und Entwicklung von Prompts für den eigenen Schulalltag\n\n\n\nBeispiele für nützliche Prompts im Schulalltag\n\n\n\nTesten von verschiedenen Chatbot-Anwendungen und anderer KI-Tools\n\n\n\nEntwicklung von eigenen Einsatzszenarien im Unterricht unter Verwendung verschiedener KI-Anwendungen\n\n\n\n\n\n\n\n\nDatum und Uhrzeit\n\n\n\n\n\n\n\n\n\nIhr Dozent\n\n\n\n\n\nVeranstaltungsort\n\n\n\n\n\n\n\nHertha-Lindner-Str. 17 \n\n\n\n01067 Dresden \n\n\n\nRoutenplanung (Link zu graphhopper.com)
URL:https://www.mpz-dresden.de/event/einsatz-von-chatbots-und-kuenstlicher-intelligenz-im-schulalltag-fuer-lehrkraefte-an-grund-und-foerderschulen/
LOCATION:MPZ Dresden\, Hertha-Lindner-Str. 17\, Dresden\, Saxony\, 01067\, Germany
CATEGORIES:KI in der Schule
ATTACH;FMTTYPE=image/png:https://www.mpz-dresden.de/wp-content/uploads/2025/01/DOWNLOAD-2.png
ORGANIZER;CN="Andrea Bialas":MAILTO:andrea.bialas@mpz-dresden.de
END:VEVENT
END:VCALENDAR