BEGIN:VCALENDAR
VERSION:2.0
PRODID:-//MPZ Dresden - ECPv6.15.20//NONSGML v1.0//EN
CALSCALE:GREGORIAN
METHOD:PUBLISH
X-ORIGINAL-URL:https://www.mpz-dresden.de
X-WR-CALDESC:Veranstaltungen für MPZ Dresden
REFRESH-INTERVAL;VALUE=DURATION:PT1H
X-Robots-Tag:noindex
X-PUBLISHED-TTL:PT1H
BEGIN:VTIMEZONE
TZID:Europe/Berlin
BEGIN:DAYLIGHT
TZOFFSETFROM:+0100
TZOFFSETTO:+0200
TZNAME:CEST
DTSTART:20240331T010000
END:DAYLIGHT
BEGIN:STANDARD
TZOFFSETFROM:+0200
TZOFFSETTO:+0100
TZNAME:CET
DTSTART:20241027T010000
END:STANDARD
BEGIN:DAYLIGHT
TZOFFSETFROM:+0100
TZOFFSETTO:+0200
TZNAME:CEST
DTSTART:20250330T010000
END:DAYLIGHT
BEGIN:STANDARD
TZOFFSETFROM:+0200
TZOFFSETTO:+0100
TZNAME:CET
DTSTART:20251026T010000
END:STANDARD
BEGIN:DAYLIGHT
TZOFFSETFROM:+0100
TZOFFSETTO:+0200
TZNAME:CEST
DTSTART:20260329T010000
END:DAYLIGHT
BEGIN:STANDARD
TZOFFSETFROM:+0200
TZOFFSETTO:+0100
TZNAME:CET
DTSTART:20261025T010000
END:STANDARD
END:VTIMEZONE
BEGIN:VEVENT
DTSTART;TZID=Europe/Berlin:20250515T100000
DTEND;TZID=Europe/Berlin:20250515T150000
DTSTAMP:20260421T120535
CREATED:20250115T102958Z
LAST-MODIFIED:20250117T113250Z
UID:6940-1747303200-1747321200@www.mpz-dresden.de
SUMMARY:iWorks - Schwerpunkt: Pages
DESCRIPTION:Allgemeines: \n\n\n\nPages ist ein leistungsstarkes Textverarbeitungsprogramm\, welches auf Apple-Geräten bereits vorinstalliert bzw. kostenlos im App Store erhältlich ist. Dank zahlreicher\, aufwendig gestalteter Vorlagen bietet Pages die Möglichkeit\, nicht nur einfache Textdateien\, sondern auch (interaktive) Bücher\, Flyer\, Postkarten\, Poster und vieles mehr zu erstellen und damit den Unterricht digital zu bereichern. \n\n\n\nInhalte: \n\n\n\n\nOffice Anwendungen\, die das iPad an Board hat\n\n\n\nPages: Grundlagen\, Aufbau des Programms\, interaktive Arbeitsblätter und Bücher\n\n\n\nEinzelne Funktionen und Anwendungsumfang an Beispiel ausprobieren\n\n\n\nSzenarien für den eigenen Unterrichtseinsatz entwickeln\n\n\n\n\n\n\n\n\nDatum und Uhrzeit\n\n\n\n\n\n\n\n\n\nIhr Dozent\n\n\n\n\n\nVeranstaltungsort\n\n\n\n\n\n\n\nHertha-Lindner-Str. 17 \n\n\n\n01067 Dresden \n\n\n\nRoutenplanung (Link zu graphhopper.com)
URL:https://www.mpz-dresden.de/event/iworks-schwerpunkt-pages/
LOCATION:MPZ Dresden\, Hertha-Lindner-Str. 17\, Dresden\, Saxony\, 01067\, Germany
CATEGORIES:iPad - Workshop,Nützliche Apps & Tools
ATTACH;FMTTYPE=image/png:https://www.mpz-dresden.de/wp-content/uploads/2025/01/DOWNLOAD-4.png
ORGANIZER;CN="Andrea Bialas":MAILTO:andrea.bialas@mpz-dresden.de
END:VEVENT
BEGIN:VEVENT
DTSTART;TZID=Europe/Berlin:20250515T143000
DTEND;TZID=Europe/Berlin:20250515T160000
DTSTAMP:20260421T120535
CREATED:20250319T104915Z
LAST-MODIFIED:20250319T122108Z
UID:7283-1747319400-1747324800@www.mpz-dresden.de
SUMMARY:beste.schule Anwendertreffen
DESCRIPTION:Allgemeines: \n\n\n\nDieses Anwendertreffen bietet Nutzern des digitalen Noten- und/oder Klassenbuches von beste.schule eine Plattform zum persönlichen Austausch und zur Vernetzung. Im Mittelpunkt steht das Teilen von Erfahrungen und Best Practices im Umgang mit der Software. \n\n\n\nInhalte: \n\n\n\n\nFörderung des direkten Austauschs zwischen Anwendern\n\n\n\nTeilen von Best Practices und Tipps zur effizienten Nutzung\n\n\n\nAufbau eines Netzwerks von Anwendern für gegenseitige Unterstützung\n\n\n\nSammeln von Ideen zur Weiterentwicklung der Software\n\n\n\n\n\n\n\n\nDatum und Uhrzeit\n\n\n\n\n\n\n\n\n\nIhr Dozent\n\n\n\n\n\nVeranstaltungsort\n\n\n\n\n\n\n\nHertha-Lindner-Str. 17 \n\n\n\n01067 Dresden \n\n\n\nRoutenplanung (Link zu graphhopper.com)
URL:https://www.mpz-dresden.de/event/beste-schule-anwendertreffen-3/
LOCATION:MPZ Dresden\, Hertha-Lindner-Str. 17\, Dresden\, Saxony\, 01067\, Germany
CATEGORIES:Anwendertreffen
ATTACH;FMTTYPE=image/png:https://www.mpz-dresden.de/wp-content/uploads/2024/10/Screenshot-2024-11-04-103319.png
ORGANIZER;CN="Ren%C3%A9 Richter (beste.schule)":MAILTO:info@mpz-dresden.de
END:VEVENT
END:VCALENDAR