BEGIN:VCALENDAR
VERSION:2.0
PRODID:-//MPZ Dresden - ECPv6.15.20//NONSGML v1.0//EN
CALSCALE:GREGORIAN
METHOD:PUBLISH
X-WR-CALNAME:MPZ Dresden
X-ORIGINAL-URL:https://www.mpz-dresden.de
X-WR-CALDESC:Veranstaltungen für MPZ Dresden
REFRESH-INTERVAL;VALUE=DURATION:PT1H
X-Robots-Tag:noindex
X-PUBLISHED-TTL:PT1H
BEGIN:VTIMEZONE
TZID:Europe/Berlin
BEGIN:DAYLIGHT
TZOFFSETFROM:+0100
TZOFFSETTO:+0200
TZNAME:CEST
DTSTART:20240331T010000
END:DAYLIGHT
BEGIN:STANDARD
TZOFFSETFROM:+0200
TZOFFSETTO:+0100
TZNAME:CET
DTSTART:20241027T010000
END:STANDARD
BEGIN:DAYLIGHT
TZOFFSETFROM:+0100
TZOFFSETTO:+0200
TZNAME:CEST
DTSTART:20250330T010000
END:DAYLIGHT
BEGIN:STANDARD
TZOFFSETFROM:+0200
TZOFFSETTO:+0100
TZNAME:CET
DTSTART:20251026T010000
END:STANDARD
BEGIN:DAYLIGHT
TZOFFSETFROM:+0100
TZOFFSETTO:+0200
TZNAME:CEST
DTSTART:20260329T010000
END:DAYLIGHT
BEGIN:STANDARD
TZOFFSETFROM:+0200
TZOFFSETTO:+0100
TZNAME:CET
DTSTART:20261025T010000
END:STANDARD
END:VTIMEZONE
BEGIN:VEVENT
DTSTART;TZID=Europe/Berlin:20250520T140000
DTEND;TZID=Europe/Berlin:20250520T160000
DTSTAMP:20260421T113949
CREATED:20250115T111415Z
LAST-MODIFIED:20250115T111417Z
UID:6965-1747749600-1747756800@www.mpz-dresden.de
SUMMARY:Lückentexte mit H5P-Editor Lumi
DESCRIPTION:Allgemeines: \n\n\n\nH5P ist eine niederschwellige Lösung zur Erstellung interaktiver digitaler Lernszenarien. Am Beispiel der Inhaltstypen „Fill in the Blank“ und „Drag the words“ wird die Verwendung des LUMI-Editors und die „Veröffentlichung“ über das Webseiten-Modul von Lernsax kennengelernt. \n\n\n\nHinweis: \n\n\n\nDer Lumi-Editor ist nur für Windows verfügbar. \n\n\n\n\n\n\n\nDatum und Uhrzeit\n\n\n\n\n\n\n\n\n\nIhr Dozent\n\n\n\n\n\nVeranstaltungsort\n\n\n\n\n\n\n\nHertha-Lindner-Str. 17 \n\n\n\n01067 Dresden \n\n\n\nRoutenplanung (Link zu graphhopper.com)
URL:https://www.mpz-dresden.de/event/lueckentexte-mit-h5p-editor-lumi/
LOCATION:MPZ Dresden\, Hertha-Lindner-Str. 17\, Dresden\, Saxony\, 01067\, Germany
CATEGORIES:Nützliche Apps & Tools
ATTACH;FMTTYPE=image/png:https://www.mpz-dresden.de/wp-content/uploads/2025/01/DOWNLOAD-10.png
ORGANIZER;CN="Helge Fleischer":MAILTO:helge.fleischer@mpz-dresden.lernsax.de
END:VEVENT
END:VCALENDAR