BEGIN:VCALENDAR
VERSION:2.0
PRODID:-//MPZ Dresden - ECPv6.15.20//NONSGML v1.0//EN
CALSCALE:GREGORIAN
METHOD:PUBLISH
X-ORIGINAL-URL:https://www.mpz-dresden.de
X-WR-CALDESC:Veranstaltungen für MPZ Dresden
REFRESH-INTERVAL;VALUE=DURATION:PT1H
X-Robots-Tag:noindex
X-PUBLISHED-TTL:PT1H
BEGIN:VTIMEZONE
TZID:Europe/Berlin
BEGIN:DAYLIGHT
TZOFFSETFROM:+0100
TZOFFSETTO:+0200
TZNAME:CEST
DTSTART:20240331T010000
END:DAYLIGHT
BEGIN:STANDARD
TZOFFSETFROM:+0200
TZOFFSETTO:+0100
TZNAME:CET
DTSTART:20241027T010000
END:STANDARD
BEGIN:DAYLIGHT
TZOFFSETFROM:+0100
TZOFFSETTO:+0200
TZNAME:CEST
DTSTART:20250330T010000
END:DAYLIGHT
BEGIN:STANDARD
TZOFFSETFROM:+0200
TZOFFSETTO:+0100
TZNAME:CET
DTSTART:20251026T010000
END:STANDARD
BEGIN:DAYLIGHT
TZOFFSETFROM:+0100
TZOFFSETTO:+0200
TZNAME:CEST
DTSTART:20260329T010000
END:DAYLIGHT
BEGIN:STANDARD
TZOFFSETFROM:+0200
TZOFFSETTO:+0100
TZNAME:CET
DTSTART:20261025T010000
END:STANDARD
END:VTIMEZONE
BEGIN:VEVENT
DTSTART;TZID=Europe/Berlin:20250925T093000
DTEND;TZID=Europe/Berlin:20250925T123000
DTSTAMP:20260421T021644
CREATED:20250605T113711Z
LAST-MODIFIED:20250610T091212Z
UID:7651-1758792600-1758803400@www.mpz-dresden.de
SUMMARY:Grundlegende Fähigkeiten im Umgang mit mobilen Endgeräten + Arbeitsorganisation mit mobilen Endgeräten (Erweiterung der Bausteine 1 und 2)
DESCRIPTION:Allgemeines: \n\n\n\nIm Mittelpunkt der Fortbildung steht das Erlangen grundlegender Fähigkeiten im Umgang mit mobilen Endgeräten und die Organisation der eigenen Arbeit damit. \n\n\n\nInhalte: \n\n\n\n\nAufbau und Grundfunktionen des Gerätes sowie nützliche Einstellungen\n\n\n\nNutzung von System-Apps\n\n\n\nGrundlegende Funktionen der Textverarbeitung\, Präsentationssoftware\n\n\n\nStrukturiertes Speichern und Organisieren von Informationen und Daten \n\n\n\nSpeicherorte lokal (App Dateien) und online (Schullogin\, LernSax)\n\n\n\nKennen des Funktionsumfangs und zielgerichtetes Einsetzen verschiedener digitaler Werkzeuge zur Unterrichtsvorbereitung \n\n\n\nNutzen digitaler Unterrichtsassistenten\, KI\, Arbeitsblattgeneratoren\, digitaler Pinnwände\n\n\n\n\n\n\n\n\nWann?\n\n\n\n\n\n\n\n\n\nWer?\n\n\n\n\n\n\n\n \n\n\n\nWo?\n\n\n\n\n\n\n\nHertha-Lindner-Str. 17 \n\n\n\n01067 Dresden \n\n\n\nRoutenplanung (Link zu graphhopper.com)
URL:https://www.mpz-dresden.de/event/grundlegende-faehigkeiten-im-umgang-mit-mobilen-endgeraeten-arbeitsorganisation-mit-mobilen-endgeraetenerweiterung-der-bausteine-1-und-2-2/
LOCATION:MPZ Dresden\, Hertha-Lindner-Str. 17\, Dresden\, Saxony\, 01067\, Germany
CATEGORIES:iPad - Workshop
ATTACH;FMTTYPE=image/jpeg:https://www.mpz-dresden.de/wp-content/uploads/2024/10/pexels-olia-danilevich-508802111.jpg
ORGANIZER;CN="Per George":MAILTO:per.george@gagym.de
END:VEVENT
END:VCALENDAR