BEGIN:VCALENDAR
VERSION:2.0
PRODID:-//MPZ Dresden - ECPv6.15.20//NONSGML v1.0//EN
CALSCALE:GREGORIAN
METHOD:PUBLISH
X-ORIGINAL-URL:https://www.mpz-dresden.de
X-WR-CALDESC:Veranstaltungen für MPZ Dresden
REFRESH-INTERVAL;VALUE=DURATION:PT1H
X-Robots-Tag:noindex
X-PUBLISHED-TTL:PT1H
BEGIN:VTIMEZONE
TZID:Europe/Berlin
BEGIN:DAYLIGHT
TZOFFSETFROM:+0100
TZOFFSETTO:+0200
TZNAME:CEST
DTSTART:20240331T010000
END:DAYLIGHT
BEGIN:STANDARD
TZOFFSETFROM:+0200
TZOFFSETTO:+0100
TZNAME:CET
DTSTART:20241027T010000
END:STANDARD
BEGIN:DAYLIGHT
TZOFFSETFROM:+0100
TZOFFSETTO:+0200
TZNAME:CEST
DTSTART:20250330T010000
END:DAYLIGHT
BEGIN:STANDARD
TZOFFSETFROM:+0200
TZOFFSETTO:+0100
TZNAME:CET
DTSTART:20251026T010000
END:STANDARD
BEGIN:DAYLIGHT
TZOFFSETFROM:+0100
TZOFFSETTO:+0200
TZNAME:CEST
DTSTART:20260329T010000
END:DAYLIGHT
BEGIN:STANDARD
TZOFFSETFROM:+0200
TZOFFSETTO:+0100
TZNAME:CET
DTSTART:20261025T010000
END:STANDARD
END:VTIMEZONE
BEGIN:VEVENT
DTSTART;TZID=Europe/Berlin:20251106T100000
DTEND;TZID=Europe/Berlin:20251106T150000
DTSTAMP:20260420T150156
CREATED:20250605T132906Z
LAST-MODIFIED:20250605T133604Z
UID:7686-1762423200-1762441200@www.mpz-dresden.de
SUMMARY:Präsentation und Lernvideos
DESCRIPTION:Allgemeines: \n\n\n\nDigitale Präsentationsmöglichkeiten und kreative Lernvideos knüpfen an die Lebenswelt der Schülerinnen und Schüler an und können den Unterricht fächerübergreifend medial bereichern. Der effektive und reflektierte Einsatz digitaler Medien im Unterricht unter Verwendung von Audio- als auch Video-Tools sowie die Entwicklung konkreter Unterrichtsbeispiele stehen im Mittelpunkt der Fortbildung. \n\n\n\nInhalte: \n\n\n\n\nArbeiten mit verschiedenen Werkzeugen zur Audio- und Videoerstellung: KeyNote\, Bildschirmaufnahmen\, StopMotion\, Clips\, My Simpleshow\n\n\n\nPräsentationsanwendungen: Keynote\, Canva\, Craft\n\n\n\nErarbeitung von Strategien zur Erstellung von Präsentationen und Lernvideos mit Schülern\n\n\n\n\n\n\n\n\nWann?\n\n\n\n\n\n\n\n\n\nWer?\n\n\n\n\n\nWo?\n\n\n\n\n\n\n\nHertha-Lindner-Str. 17 \n\n\n\n01067 Dresden \n\n\n\nRoutenplanung (Link zu graphhopper.com)
URL:https://www.mpz-dresden.de/event/praesentation-und-lernvideos-3/
LOCATION:MPZ Dresden\, Hertha-Lindner-Str. 17\, Dresden\, Saxony\, 01067\, Germany
CATEGORIES:iPad - Workshop,Nützliche Apps & Tools
ATTACH;FMTTYPE=image/png:https://www.mpz-dresden.de/wp-content/uploads/2025/01/DOWNLOAD-5.png
ORGANIZER;CN="Andrea Bialas":MAILTO:andrea.bialas@mpz-dresden.de
END:VEVENT
END:VCALENDAR