BEGIN:VCALENDAR
VERSION:2.0
PRODID:-//MPZ Dresden - ECPv6.15.20//NONSGML v1.0//EN
CALSCALE:GREGORIAN
METHOD:PUBLISH
X-ORIGINAL-URL:https://www.mpz-dresden.de
X-WR-CALDESC:Veranstaltungen für MPZ Dresden
REFRESH-INTERVAL;VALUE=DURATION:PT1H
X-Robots-Tag:noindex
X-PUBLISHED-TTL:PT1H
BEGIN:VTIMEZONE
TZID:Europe/Berlin
BEGIN:DAYLIGHT
TZOFFSETFROM:+0100
TZOFFSETTO:+0200
TZNAME:CEST
DTSTART:20240331T010000
END:DAYLIGHT
BEGIN:STANDARD
TZOFFSETFROM:+0200
TZOFFSETTO:+0100
TZNAME:CET
DTSTART:20241027T010000
END:STANDARD
BEGIN:DAYLIGHT
TZOFFSETFROM:+0100
TZOFFSETTO:+0200
TZNAME:CEST
DTSTART:20250330T010000
END:DAYLIGHT
BEGIN:STANDARD
TZOFFSETFROM:+0200
TZOFFSETTO:+0100
TZNAME:CET
DTSTART:20251026T010000
END:STANDARD
BEGIN:DAYLIGHT
TZOFFSETFROM:+0100
TZOFFSETTO:+0200
TZNAME:CEST
DTSTART:20260329T010000
END:DAYLIGHT
BEGIN:STANDARD
TZOFFSETFROM:+0200
TZOFFSETTO:+0100
TZNAME:CET
DTSTART:20261025T010000
END:STANDARD
END:VTIMEZONE
BEGIN:VEVENT
DTSTART;TZID=Europe/Berlin:20251111T140000
DTEND;TZID=Europe/Berlin:20251111T160000
DTSTAMP:20260420T153356
CREATED:20250923T102542Z
LAST-MODIFIED:20250925T102955Z
UID:7975-1762869600-1762876800@www.mpz-dresden.de
SUMMARY:Digitale Bücher selbst gestalten – Schülerinnen und Schüler arbeiten mit Book Creator
DESCRIPTION:Möchten Sie\, dass Ihre Schülerinnen und Schüler selbst digitale\, multimediale Produkte zu Lerninhalten erstellen? Suchen Sie nach Wegen\, wie Sie schüleraktives und kollaboratives Arbeiten in Ihrem Unterricht umsetzen können?  \n\n\n\nIn diesem Workshop erfahren Sie\, wie sich kreative Lernprozesse und selbstverantwortliches Arbeiten mithilfe von Book Creator gestalten lassen. Dabei beantworten wir Fragen wie: Wie können Lernende kollaborativ an digitalen Projekten arbeiten? Welche Lernziele lassen sich durch multimediale Buchgestaltung erreichen? Wie organisiere ich solche Arbeitsprozesse in meiner Klasse? Sie bringen eigene Unterrichtsthemen mit und erleben dabei selbst\, wie Ihre Schülerinnen und Schüler aller Schularten später arbeiten werden – von der Idee bis zum fertigen digitalen Buch. \n\n\n\nInhalte: \n\n\n\n\nLernziele und Einsatzmöglichkeiten für multimediale Buchprojekte\n\n\n\nSelbsterfahrung: Buchgestaltung am eigenen Unterrichtsthema\n\n\n\nOrganisation und Begleitung von Schülerprojekten in der Klasse\n\n\n\nTechnische Grundlagen und Funktionen von Book Creator\n\n\n\nReflexion und Transfer für den eigenen Unterricht\n\n\n\n\n\n\n\n\n \n\n\n\n💡 Tipp: Ein Praxisbeispiel zur Arbeit mit Book Creator finden Sie hier: https://www.mpz-dresden.de/gp_bookcreator \n\n\n\n \n\n\n\n\n\n\n\nWann?\n\n\n\n\n\n\n\n\n\nWer?\n\n\n\n\n\n\n\nWo?\n\n\n\n\n\n\n\nHertha-Lindner-Str. 17 \n\n\n\n01067 Dresden \n\n\n\nRoutenplanung (Link zu graphhopper.com)
URL:https://www.mpz-dresden.de/event/digitale-buecher-selbst-gestalten-schuelerinnen-und-schueler-arbeiten-mit-book-creator/
LOCATION:MPZ Dresden\, Hertha-Lindner-Str. 17\, Dresden\, Saxony\, 01067\, Germany
CATEGORIES:Nützliche Apps & Tools
ATTACH;FMTTYPE=image/png:https://www.mpz-dresden.de/wp-content/uploads/2025/09/Book-Creator.png
ORGANIZER;CN="Susanne Wagner":MAILTO:susanne.wagner@mpz-dresden.de
END:VEVENT
END:VCALENDAR