BEGIN:VCALENDAR
VERSION:2.0
PRODID:-//MPZ Dresden - ECPv6.15.20//NONSGML v1.0//EN
CALSCALE:GREGORIAN
METHOD:PUBLISH
X-WR-CALNAME:MPZ Dresden
X-ORIGINAL-URL:https://www.mpz-dresden.de
X-WR-CALDESC:Veranstaltungen für MPZ Dresden
REFRESH-INTERVAL;VALUE=DURATION:PT1H
X-Robots-Tag:noindex
X-PUBLISHED-TTL:PT1H
BEGIN:VTIMEZONE
TZID:Europe/Berlin
BEGIN:DAYLIGHT
TZOFFSETFROM:+0100
TZOFFSETTO:+0200
TZNAME:CEST
DTSTART:20240331T010000
END:DAYLIGHT
BEGIN:STANDARD
TZOFFSETFROM:+0200
TZOFFSETTO:+0100
TZNAME:CET
DTSTART:20241027T010000
END:STANDARD
BEGIN:DAYLIGHT
TZOFFSETFROM:+0100
TZOFFSETTO:+0200
TZNAME:CEST
DTSTART:20250330T010000
END:DAYLIGHT
BEGIN:STANDARD
TZOFFSETFROM:+0200
TZOFFSETTO:+0100
TZNAME:CET
DTSTART:20251026T010000
END:STANDARD
BEGIN:DAYLIGHT
TZOFFSETFROM:+0100
TZOFFSETTO:+0200
TZNAME:CEST
DTSTART:20260329T010000
END:DAYLIGHT
BEGIN:STANDARD
TZOFFSETFROM:+0200
TZOFFSETTO:+0100
TZNAME:CET
DTSTART:20261025T010000
END:STANDARD
END:VTIMEZONE
BEGIN:VEVENT
DTSTART;TZID=Europe/Berlin:20251124T133000
DTEND;TZID=Europe/Berlin:20251124T163000
DTSTAMP:20260420T151930
CREATED:20250605T114042Z
LAST-MODIFIED:20250610T091202Z
UID:7657-1763991000-1764001800@www.mpz-dresden.de
SUMMARY:Arbeitsorganisation mit mobilen Endgeräten + Unterrichten mit mobilen Endgeräten (Erweiterung der Bausteine 2 und 3)
DESCRIPTION:Allgemeines: \n\n\n\nIm Mittelpunkt der Fortbildung steht das Vorbereiten und das Unterrichten mit mobilen Endgeräten. \n\n\n\nInhalte: \n\n\n\n\nErstellen und Bearbeiten von digitalen Unterrichtsvorbereitungen\n\n\n\nStrukturiertes Speichern und Organisieren von Informationen und Daten \n\n\n\nKennen des Funktionsumfangs und zielgerichtetes Einsetzen verschiedener digitaler Werkzeuge zur Unterrichtsvorbereitung \n\n\n\nNutzen digitaler Unterrichtsassistenten\, KI\, Arbeitsblattgeneratoren\, digitaler Pinnwände\n\n\n\nErstellen und Einsetzen verschiedener digitaler Präsentationen\, Arbeiten mit interaktiven Tafeln\n\n\n\nArbeiten mit verschiedenen Werkzeugen zur Audio- und Videoerstellung (Garage Band und StopMotion\, Clips\, Bildschirmaufnahme)\n\n\n\nEntwickeln verschiedener Einsatzszenarien für Apps und webbasierte Anwendungen im Unterricht\n\n\n\nEinsatz von KI-basierten Unterrichtsinhalten\n\n\n\n\n\n\n\n\nWann?\n\n\n\n\n\n\n\n\n\nWer?\n\n\n\n\n\n\n\n \n\n\n\nWo?\n\n\n\n\n\n\n\nHertha-Lindner-Str. 17 \n\n\n\n01067 Dresden \n\n\n\nRoutenplanung (Link zu graphhopper.com)
URL:https://www.mpz-dresden.de/event/arbeitsorganisation-mit-mobilen-endgeraeten-unterrichten-mit-mobilen-endgeraeten-erweiterung-der-bausteine-2-und-3-2/
LOCATION:MPZ Dresden\, Hertha-Lindner-Str. 17\, Dresden\, Saxony\, 01067\, Germany
CATEGORIES:iPad - Workshop
ATTACH;FMTTYPE=image/jpeg:https://www.mpz-dresden.de/wp-content/uploads/2024/10/pexels-olia-danilevich-508802111.jpg
ORGANIZER;CN="Per George":MAILTO:per.george@gagym.de
END:VEVENT
END:VCALENDAR