BEGIN:VCALENDAR
VERSION:2.0
PRODID:-//MPZ Dresden - ECPv6.15.20//NONSGML v1.0//EN
CALSCALE:GREGORIAN
METHOD:PUBLISH
X-WR-CALNAME:MPZ Dresden
X-ORIGINAL-URL:https://www.mpz-dresden.de
X-WR-CALDESC:Veranstaltungen für MPZ Dresden
REFRESH-INTERVAL;VALUE=DURATION:PT1H
X-Robots-Tag:noindex
X-PUBLISHED-TTL:PT1H
BEGIN:VTIMEZONE
TZID:Europe/Berlin
BEGIN:DAYLIGHT
TZOFFSETFROM:+0100
TZOFFSETTO:+0200
TZNAME:CEST
DTSTART:20240331T010000
END:DAYLIGHT
BEGIN:STANDARD
TZOFFSETFROM:+0200
TZOFFSETTO:+0100
TZNAME:CET
DTSTART:20241027T010000
END:STANDARD
BEGIN:DAYLIGHT
TZOFFSETFROM:+0100
TZOFFSETTO:+0200
TZNAME:CEST
DTSTART:20250330T010000
END:DAYLIGHT
BEGIN:STANDARD
TZOFFSETFROM:+0200
TZOFFSETTO:+0100
TZNAME:CET
DTSTART:20251026T010000
END:STANDARD
BEGIN:DAYLIGHT
TZOFFSETFROM:+0100
TZOFFSETTO:+0200
TZNAME:CEST
DTSTART:20260329T010000
END:DAYLIGHT
BEGIN:STANDARD
TZOFFSETFROM:+0200
TZOFFSETTO:+0100
TZNAME:CET
DTSTART:20261025T010000
END:STANDARD
END:VTIMEZONE
BEGIN:VEVENT
DTSTART;TZID=Europe/Berlin:20251125T140000
DTEND;TZID=Europe/Berlin:20251125T163000
DTSTAMP:20260420T150007
CREATED:20250923T123400Z
LAST-MODIFIED:20250923T130005Z
UID:8076-1764079200-1764088200@www.mpz-dresden.de
SUMMARY:Einführung in die LernSax-Tafelsoftware #ONLINE
DESCRIPTION:Beschreibung: \n\n\n\nIn dieser Veranstaltung wird den Teilnehmenden die Tafelsoftware von LernSax vorgestellt. Die „LernSax Tafel“ beruht auf der Softwarelösung „Geogebra Notes“ und kann überall auf einem Endgerät mit einer Internetverbindung genutzt werden. Die Tafelsoftware ist ein Online-Whiteboard\, in das eine Vielzahl von Elementen und Medien eingebunden werden kann. Für die Anwendung in der Grundschule werden Lineaturen bereitgestellt. Die „LernSax Tafel“ steht LernSax-Nutzern in der Dateiablage unter dem Dateityp „Tafelbild“ zur Verfügung. \n\n\n\nZiele:  \n\n\n\nDie Teilnehmenden erproben die Tafelsoftware eigenständig nach einer Einführung. \n\n\n\nDie Teilnehmenden orientieren sich auf der Benutzeroberfläche und analysieren die Werkzeuge der „LernSax Tafel“ im Hinblick auf ihren didaktischen Einsatz im Unterricht. \n\n\n\n \n\n\n\nInhalte: \n\n\n\n\nVorstellung eines Beispieltafelbildes und der Vorteile der LernSax-Tafelsoftware\n\n\n\nVorstellen und Ausprobieren zentraler Funktionen der LernSax-Tafel\n\n\n\n Hilfen zur LernSax-Tafelsoftware\n\n\n\nVoraussetzungen für die Nutzung im Unterricht\n\n\n\n\nHinweise: \n\n\n\nDer Schwerpunkt dieser Veranstaltung liegt auf der Vorstellung von Funktionen\, die speziell für den Einsatz in Grund- und Förderschulen konzipiert sind\, sich jedoch ebenso in weiterführenden Schulen sinnvoll nutzen lassen. \n\n\n\nEtwa eine Woche vor Veranstaltungsbeginn erhalten Sie eine E-Mail mit allen weiteren Informationen. \n\n\n\nVoraussetzung für die Teilnahme ist ein aktiver Zugang zu LernSax. \n\n\n\n \n\n\n\n\n\n\n\nWann?\n\n\n\n\n\n\n\n\n\nZUR BUCHUNG\n\n\n\nWer?\n\n\n\n\n\n\n\nWo?\n\n\n\n\n\n\n\nHertha-Lindner-Str. 17 \n\n\n\n01067 Dresden \n\n\n\nRoutenplanung (Link zu graphhopper.com)
URL:https://www.mpz-dresden.de/event/einfuehrung-in-die-lernsax-tafelsoftware/
LOCATION:MPZ Dresden\, Hertha-Lindner-Str. 17\, Dresden\, Saxony\, 01067\, Germany
CATEGORIES:LernSax,Online-Fortbildungen
ATTACH;FMTTYPE=image/png:https://www.mpz-dresden.de/wp-content/uploads/2025/09/Tafelsoftware-1.png
ORGANIZER;CN="Tim H%C3%A4cker":MAILTO:tim.haecker@mpz-dresden.de
END:VEVENT
END:VCALENDAR