BEGIN:VCALENDAR
VERSION:2.0
PRODID:-//MPZ Dresden - ECPv6.15.20//NONSGML v1.0//EN
CALSCALE:GREGORIAN
METHOD:PUBLISH
X-WR-CALNAME:MPZ Dresden
X-ORIGINAL-URL:https://www.mpz-dresden.de
X-WR-CALDESC:Veranstaltungen für MPZ Dresden
REFRESH-INTERVAL;VALUE=DURATION:PT1H
X-Robots-Tag:noindex
X-PUBLISHED-TTL:PT1H
BEGIN:VTIMEZONE
TZID:Europe/Berlin
BEGIN:DAYLIGHT
TZOFFSETFROM:+0100
TZOFFSETTO:+0200
TZNAME:CEST
DTSTART:20250330T010000
END:DAYLIGHT
BEGIN:STANDARD
TZOFFSETFROM:+0200
TZOFFSETTO:+0100
TZNAME:CET
DTSTART:20251026T010000
END:STANDARD
BEGIN:DAYLIGHT
TZOFFSETFROM:+0100
TZOFFSETTO:+0200
TZNAME:CEST
DTSTART:20260329T010000
END:DAYLIGHT
BEGIN:STANDARD
TZOFFSETFROM:+0200
TZOFFSETTO:+0100
TZNAME:CET
DTSTART:20261025T010000
END:STANDARD
BEGIN:DAYLIGHT
TZOFFSETFROM:+0100
TZOFFSETTO:+0200
TZNAME:CEST
DTSTART:20270328T010000
END:DAYLIGHT
BEGIN:STANDARD
TZOFFSETFROM:+0200
TZOFFSETTO:+0100
TZNAME:CET
DTSTART:20271031T010000
END:STANDARD
END:VTIMEZONE
BEGIN:VEVENT
DTSTART;TZID=Europe/Berlin:20260428T140000
DTEND;TZID=Europe/Berlin:20260428T163000
DTSTAMP:20260419T150916
CREATED:20260310T102400Z
LAST-MODIFIED:20260414T062510Z
UID:8776-1777384800-1777393800@www.mpz-dresden.de
SUMMARY:Lernen mit KI in der Grundschule - Kreative & kommunikative Einsatzmöglichkeiten von Künstlicher Intelligenz #ONLINE 
DESCRIPTION:Beschreibung: \n\n\n\nEntdecken Sie in dieser praxisorientierten Fortbildung\, wie Sie KI-Tools gezielt für Ihren Grundschulunterricht einsetzen: Ob als Chat-Partner für historische Persönlichkeiten\, zum Üben englischer Dialoge oder als Kreativ-Werkzeug für coole Bildideen – wir probieren KI-Chats und Bildgeneratoren gemeinsam aus. Schritt für Schritt richten Sie die Tools ein und lernen\, wie Sie diese mit Ihren Schülerinnen und Schülern im Fachunterricht einsetzen können. \n\n\n\nZiele:  \n\n\n\nDie Teilnehmenden reflektieren Potenziale des Einsatzes von Künstlicher Intelligenz in der Grundschule. \n\n\n\nDie Teilnehmenden setzen sich exemplarisch mit KI-gestützter Bilderstellung und dem Einsatz von KI-Chatbots auseinander. \n\n\n\nDie Teilnehmenden erproben ausgewählte KI-Tools praktisch und gestalten Unterrichtsszenarien\, in denen Schülerinnen und Schüler eigenständig damit arbeiten. \n\n\n\nDie Teilnehmenden entwickeln erste Ideen für fachspezifische Unterrichtsszenarien mit KI-Unterstützung. \n\n\n\nInhalte: \n\n\n\n\nVorstellung verschiedener Beispiele von KI-Nutzung (KI-Chat mit selbst erstelltem oder vorbereitetem Chatbot\, Bilder mit KI erstellen) aus dem Fachunterricht (Englisch\, Kunst\, Religion)\n\n\n\nAusprobieren der KI-Tools aus Sicht der Schülerinnen und Schüler\n\n\n\n\nHinweise: \n\n\n\nDer Fokus dieser Veranstaltung liegt auf der Arbeit mit KI in Grund- und Förderschulen. Sie ist aber ebenso für weiterführende Schulen geeignet. \n\n\n\nNach Ihrer Anmeldung erhalten Sie zunächst eine Bestätigung. Kurz vor der Veranstaltung folgt eine zweite E-Mail mit dem Videokonferenzlink. \n\n\n\n\n\n\n\nWann?\n\n\n\n\n\n\n\n\n\nWer?\n\n\n\n\n\n\n\nWo?\n\n\n\n\n\n\n\nOnline-Veranstaltung
URL:https://www.mpz-dresden.de/event/lernen-mit-ki-in-der-grundschule-kreative-kommunikative-einsatzmoeglichkeiten-von-kuenstlicher-intelligenz-online-3/
LOCATION:MPZ Dresden\, Hertha-Lindner-Str. 17\, Dresden\, Saxony\, 01067\, Germany
CATEGORIES:iPad - Workshop,KI in der Schule,Online-Fortbildungen
ATTACH;FMTTYPE=image/png:https://www.mpz-dresden.de/wp-content/uploads/2025/09/ChatGPT-Image-23.-Sept.-2025-14_56_31.png
ORGANIZER;CN="Tim H%C3%A4cker":MAILTO:tim.haecker@mpz-dresden.de
END:VEVENT
END:VCALENDAR