BEGIN:VCALENDAR
VERSION:2.0
PRODID:-//MPZ Dresden - ECPv6.15.20//NONSGML v1.0//EN
CALSCALE:GREGORIAN
METHOD:PUBLISH
X-WR-CALNAME:MPZ Dresden
X-ORIGINAL-URL:https://www.mpz-dresden.de
X-WR-CALDESC:Veranstaltungen für MPZ Dresden
REFRESH-INTERVAL;VALUE=DURATION:PT1H
X-Robots-Tag:noindex
X-PUBLISHED-TTL:PT1H
BEGIN:VTIMEZONE
TZID:Europe/Berlin
BEGIN:DAYLIGHT
TZOFFSETFROM:+0100
TZOFFSETTO:+0200
TZNAME:CEST
DTSTART:20250330T010000
END:DAYLIGHT
BEGIN:STANDARD
TZOFFSETFROM:+0200
TZOFFSETTO:+0100
TZNAME:CET
DTSTART:20251026T010000
END:STANDARD
BEGIN:DAYLIGHT
TZOFFSETFROM:+0100
TZOFFSETTO:+0200
TZNAME:CEST
DTSTART:20260329T010000
END:DAYLIGHT
BEGIN:STANDARD
TZOFFSETFROM:+0200
TZOFFSETTO:+0100
TZNAME:CET
DTSTART:20261025T010000
END:STANDARD
BEGIN:DAYLIGHT
TZOFFSETFROM:+0100
TZOFFSETTO:+0200
TZNAME:CEST
DTSTART:20270328T010000
END:DAYLIGHT
BEGIN:STANDARD
TZOFFSETFROM:+0200
TZOFFSETTO:+0100
TZNAME:CET
DTSTART:20271031T010000
END:STANDARD
END:VTIMEZONE
BEGIN:VEVENT
DTSTART;TZID=Europe/Berlin:20260430T100000
DTEND;TZID=Europe/Berlin:20260430T150000
DTSTAMP:20260419T150436
CREATED:20260204T091035Z
LAST-MODIFIED:20260204T091037Z
UID:8702-1777543200-1777561200@www.mpz-dresden.de
SUMMARY:Pages im Unterricht: Kreative Lehr- und Lernprodukte mit dem iPad gestalten
DESCRIPTION:Allgemeines: \n\n\n\nDas Textverarbeitungsprogramm Pages ist auf dem iPad bereits vorhanden und kostenlos – ideal\, um Lernende aktiv produzieren zu lassen und für Lehrkräften zugleich starkes Werkzeuge für Planung\, Materialerstellung und Feedback. So entsteht ein durchgängiger Workflow: Lehrkräfte gestalten klar strukturierte Vorlagen und Aufgaben\, Schüler erstellen motivierende\, interaktive Produkte – alles in einem Tool. \n\n\n\nInhalte: \n\n\n\n\nPages-Grundlagen: Oberfläche\, Vorlagen\, Seitenlayout vs. Textverarbeitung\n\n\n\nSchüler aktivieren: Lernprodukte wie eBooks\, Poster\, Journale selbst erstellen\n\n\n\nMedienkompetenz stärken: Layout\, Quellen\, Interaktivität und Export sicher anwenden\n\n\n\nLehrkräfte entlasten: Vorlagen\, strukturierte Aufgaben und effizientes Feedback nutzen\n\n\n\nZusammenarbeit ermöglichen: Kollaboratives Arbeiten und klare Abgabe-Workflows\n\n\n\nSzenarien für den eigenen Unterrichtseinsatz entwickeln\n\n\n\n\n\n\n\n\nWann?\n\n\n\n\n\n\n\n\n\nWer?\n\n\n\n\n\nWo?\n\n\n\n\n\n\n\nHertha-Lindner-Str. 17 \n\n\n\n01067 Dresden \n\n\n\nRoutenplanung (Link zu graphhopper.com)
URL:https://www.mpz-dresden.de/event/pages-im-unterricht-kreative-lehr-und-lernprodukte-mit-dem-ipad-gestalten/
LOCATION:MPZ Dresden\, Hertha-Lindner-Str. 17\, Dresden\, Saxony\, 01067\, Germany
CATEGORIES:iPad - Workshop,Nützliche Apps & Tools
ATTACH;FMTTYPE=image/png:https://www.mpz-dresden.de/wp-content/uploads/2025/01/DOWNLOAD-4.png
ORGANIZER;CN="Andrea Bialas":MAILTO:andrea.bialas@mpz-dresden.de
END:VEVENT
BEGIN:VEVENT
DTSTART;TZID=Europe/Berlin:20260430T140000
DTEND;TZID=Europe/Berlin:20260430T153000
DTSTAMP:20260419T150436
CREATED:20260205T125340Z
LAST-MODIFIED:20260205T131237Z
UID:8732-1777557600-1777563000@www.mpz-dresden.de
SUMMARY:Lernprozesse gestalten mit LearningView – Wochenpläne und Portfolios digital umsetzen
DESCRIPTION:Möchten Sie Lernprozesse digital strukturieren und die Selbstständigkeit Ihrer Schülerinnen und Schüler gezielt fördern?In dieser Veranstaltung lernen Sie\, wie Sie mit LearningView umfangreiche Lernsettings wie Wochenpläne\, Portfolios und individuelle Lernpfade gestalten und begleiten können.  \n\n\n\nSie erfahren\, wie Sie Lernprozesse übersichtlich strukturieren\, Fortschritte dokumentieren und individuelle Lernwege Ihrer Lernenden unterstützen.Der Workshop richtet sich an Lehrkräfte\, die bereits Grundkenntnisse im Umgang mit LearningView haben – sei es durch die Grundlagenveranstaltung oder durch eigene Erfahrungen.  \n\n\n\nAnhand praxisnaher Beispiele entwickeln Sie Ideen\, wie sich digitale Lernorganisation\, Feedback und Selbststeuerung im Unterricht gezielt weiterentwickeln lassen. \n\n\n\nZiele:Die Teilnehmenden … \n\n\n\n\ngestalten Wochenpläne und Lernportfolios mit LearningView.\n\n\n\nnutzen erweiterte Funktionen zur Differenzierung\, Rückmeldung und Lernprozessbegleitung.\n\n\n\nentwickeln oder verfeinern eigene Unterrichtseinheiten mit LearningView.\n\n\n\nstärken ihre Kompetenzen in der digitalen Lernorganisation und Portfolioarbeit.\n\n\n\n\nOrganisatorisches: \n\n\n\nEin eigenes Lehrerkonto bei LearningView wird vorausgesetzt:https://learningview.org/register.php \n\n\n\nBitte bringen Sie ein digitales Endgerät mit. \n\n\n\n\n\nWann?\n\n\n\n\n\n\n\n\n\nWer?\n\n\n\nJulia Glaser und Felix Lein-Hagedorn \n\n\n\nWo?\n\n\n\n\n\n\n\nHertha-Lindner-Str. 17 \n\n\n\n01067 Dresden
URL:https://www.mpz-dresden.de/event/lernprozesse-gestalten-mit-learningview-wochenplaene-und-portfolios-digital-umsetzen/
LOCATION:MPZ Dresden\, Hertha-Lindner-Str. 17\, Dresden\, Saxony\, 01067\, Germany
CATEGORIES:iPad - Workshop
ATTACH;FMTTYPE=image/png:https://www.mpz-dresden.de/wp-content/uploads/2026/02/Bildschirmfoto-2026-02-05-um-13.48.25.png
END:VEVENT
END:VCALENDAR