BEGIN:VCALENDAR
VERSION:2.0
PRODID:-//MPZ Dresden - ECPv6.15.20//NONSGML v1.0//EN
CALSCALE:GREGORIAN
METHOD:PUBLISH
X-ORIGINAL-URL:https://www.mpz-dresden.de
X-WR-CALDESC:Veranstaltungen für MPZ Dresden
REFRESH-INTERVAL;VALUE=DURATION:PT1H
X-Robots-Tag:noindex
X-PUBLISHED-TTL:PT1H
BEGIN:VTIMEZONE
TZID:Europe/Berlin
BEGIN:DAYLIGHT
TZOFFSETFROM:+0100
TZOFFSETTO:+0200
TZNAME:CEST
DTSTART:20250330T010000
END:DAYLIGHT
BEGIN:STANDARD
TZOFFSETFROM:+0200
TZOFFSETTO:+0100
TZNAME:CET
DTSTART:20251026T010000
END:STANDARD
BEGIN:DAYLIGHT
TZOFFSETFROM:+0100
TZOFFSETTO:+0200
TZNAME:CEST
DTSTART:20260329T010000
END:DAYLIGHT
BEGIN:STANDARD
TZOFFSETFROM:+0200
TZOFFSETTO:+0100
TZNAME:CET
DTSTART:20261025T010000
END:STANDARD
BEGIN:DAYLIGHT
TZOFFSETFROM:+0100
TZOFFSETTO:+0200
TZNAME:CEST
DTSTART:20270328T010000
END:DAYLIGHT
BEGIN:STANDARD
TZOFFSETFROM:+0200
TZOFFSETTO:+0100
TZNAME:CET
DTSTART:20271031T010000
END:STANDARD
END:VTIMEZONE
BEGIN:VEVENT
DTSTART;TZID=Europe/Berlin:20260512T143000
DTEND;TZID=Europe/Berlin:20260512T160000
DTSTAMP:20260419T165117
CREATED:20260222T105630Z
LAST-MODIFIED:20260222T105637Z
UID:8752-1778596200-1778601600@www.mpz-dresden.de
SUMMARY:Relution I
DESCRIPTION:BITTE BEACHTEN: \n\n\n\nBitte bringen Sie unbedingt Ihre Zugangsdaten zum Apple School Manager und Relution mit. Diese erhalten Sie bis spätestens zum Veranstaltungstag an Ihre LernSax-Email-Adresse gesendet. \n\n\n\nAuch ein iPad Ihrer Schule wäre sinnvoll. \n\n\n\nInhalte: \n\n\n\nWir besprechen die wichtigsten Funktionen von Relution\, um iPads an Schulen zu administrieren: \n\n\n\n\nApps auswählen und installieren\n\n\n\nNutzer erzeugen und zuweisen\n\n\n\nNutzergruppen bilden\n\n\n\nApple-Classroom nutzen\n\n\n\n\nDie Nutzung von Relution zum Management der Nutzerrechte\, Richtlinien usw. wird Thema einer späteren Veranstaltung (Relution II) sein. \n\n\n\n\n\n\n\nDatum und Uhrzeit\n\n\n\n\n\n\n\nBITTE BEACHTEN: Eine Anmeldung ist nur mit LernSax-Adresse möglich! \n\n\n\n\n\nIhr Dozent\n\n\n\n\n\nVeranstaltungsort\n\n\n\n\n\n\n\nHertha-Lindner-Str. 17 \n\n\n\n01067 Dresden \n\n\n\nRoutenplanung (Link zu graphhopper.com)
URL:https://www.mpz-dresden.de/event/relution-i-9/
LOCATION:MPZ Dresden\, Hertha-Lindner-Str. 17\, Dresden\, Saxony\, 01067\, Germany
CATEGORIES:Relution
ATTACH;FMTTYPE=image/png:https://www.mpz-dresden.de/wp-content/uploads/2024/11/relution.png
ORGANIZER;CN="Rainer Fabianski":MAILTO:rainer.fabianski@bebe-dresden.lernsax.de
END:VEVENT
END:VCALENDAR