BEGIN:VCALENDAR
VERSION:2.0
PRODID:-//MPZ Dresden - ECPv6.15.20//NONSGML v1.0//EN
CALSCALE:GREGORIAN
METHOD:PUBLISH
X-ORIGINAL-URL:https://www.mpz-dresden.de
X-WR-CALDESC:Veranstaltungen für MPZ Dresden
REFRESH-INTERVAL;VALUE=DURATION:PT1H
X-Robots-Tag:noindex
X-PUBLISHED-TTL:PT1H
BEGIN:VTIMEZONE
TZID:Europe/Berlin
BEGIN:DAYLIGHT
TZOFFSETFROM:+0100
TZOFFSETTO:+0200
TZNAME:CEST
DTSTART:20250330T010000
END:DAYLIGHT
BEGIN:STANDARD
TZOFFSETFROM:+0200
TZOFFSETTO:+0100
TZNAME:CET
DTSTART:20251026T010000
END:STANDARD
BEGIN:DAYLIGHT
TZOFFSETFROM:+0100
TZOFFSETTO:+0200
TZNAME:CEST
DTSTART:20260329T010000
END:DAYLIGHT
BEGIN:STANDARD
TZOFFSETFROM:+0200
TZOFFSETTO:+0100
TZNAME:CET
DTSTART:20261025T010000
END:STANDARD
BEGIN:DAYLIGHT
TZOFFSETFROM:+0100
TZOFFSETTO:+0200
TZNAME:CEST
DTSTART:20270328T010000
END:DAYLIGHT
BEGIN:STANDARD
TZOFFSETFROM:+0200
TZOFFSETTO:+0100
TZNAME:CET
DTSTART:20271031T010000
END:STANDARD
END:VTIMEZONE
BEGIN:VEVENT
DTSTART;TZID=Europe/Berlin:20260519T140000
DTEND;TZID=Europe/Berlin:20260519T163000
DTSTAMP:20260419T164949
CREATED:20260310T103037Z
LAST-MODIFIED:20260310T215908Z
UID:8779-1779199200-1779208200@www.mpz-dresden.de
SUMMARY:Von der Idee zum Lernprodukt – mit Learning Apps und Book Creator
DESCRIPTION:Möchten Sie\, dass Ihre Schülerinnen und Schüler digitale\, multimediale Produkte zu Lerninhalten selbst erstellen? Suchen Sie nach Wegen\, wie Sie schüleraktives und kollaboratives Arbeiten in Ihrem Unterricht umsetzen können? \n\n\n\nIn diesem Workshop werden Ihnen mit Learning Apps und Book Creator zwei digitale Werkzeuge vorgestellt\, die fächerübergreifend einsetzbar sind und Lernende dazu befähigen\, eigene Lernprodukte zu entwickeln. \n\n\n\n \n\n\n\n \n\n\n\n🔧 Die Tools im Überblick\n\n\n\n🎯 Learning Apps – Lernende erstellen interaktive\, multimediale Lernbausteine (z. B. Quiz oder Zuordnungsübungen)\, die anschließend auch von anderen genutzt werden können. \n\n\n\n📖 Book Creator – Schülerinnen und Schüler gestalten digitale Bücher\, indem sie Texte\, Bilder\, Videos und Audioinhalte kombinieren – kollaboratives Arbeiten inklusive. \n\n\n\n \n\n\n\n \n\n\n\n✏️ So läuft der Workshop ab\n\n\n\nSie erhalten einen Überblick zu beiden Tools\, probieren diese selbst aus und bringen eigene Unterrichtsthemen mit. So erleben Sie direkt\, wie Ihre Schülerinnen und Schüler später arbeiten werden – von der Idee bis zum fertigen Produkt. \n\n\n\n📱 Tipp: Bringen Sie gerne Ihr eigenes Dienstgerät mit. \n\n\n\n \n\n\n\n🔍 Praxisbeispiele\n\n\n\nNeugierig auf konkrete Unterrichtseinsätze? Schauen Sie vorab rein: \n\n\n\nGood Practice: Learning Apps im Unterricht \n\n\n\nGood Practice: Book Creator \n\n\n\n\n\n\n\nDatum und Uhrzeit\n\n\n\n\n\n\n\n\n\nIhr Dozent\n\n\n\n\n\n\n\nVeranstaltungsort\n\n\n\n\n\n\n\nHertha-Lindner-Str. 17 \n\n\n\n01067 Dresden \n\n\n\nRoutenplanung (Link zu graphhopper.com)
URL:https://www.mpz-dresden.de/event/digitale-lernprodukte-schuelerinnen-und-schueler-arbeiten-mit-learning-apps-und-book-creator/
LOCATION:MPZ Dresden\, Hertha-Lindner-Str. 17\, Dresden\, Saxony\, 01067\, Germany
CATEGORIES:Nützliche Apps & Tools
ATTACH;FMTTYPE=image/png:https://www.mpz-dresden.de/wp-content/uploads/2024/11/Design-ohne-Titel6.png
ORGANIZER;CN="Susanne Wagner":MAILTO:susanne.wagner@mpz-dresden.de
END:VEVENT
END:VCALENDAR