BEGIN:VCALENDAR
VERSION:2.0
PRODID:-//MPZ Dresden - ECPv6.15.20//NONSGML v1.0//EN
CALSCALE:GREGORIAN
METHOD:PUBLISH
X-ORIGINAL-URL:https://www.mpz-dresden.de
X-WR-CALDESC:Veranstaltungen für MPZ Dresden
REFRESH-INTERVAL;VALUE=DURATION:PT1H
X-Robots-Tag:noindex
X-PUBLISHED-TTL:PT1H
BEGIN:VTIMEZONE
TZID:Europe/Berlin
BEGIN:DAYLIGHT
TZOFFSETFROM:+0100
TZOFFSETTO:+0200
TZNAME:CEST
DTSTART:20250330T010000
END:DAYLIGHT
BEGIN:STANDARD
TZOFFSETFROM:+0200
TZOFFSETTO:+0100
TZNAME:CET
DTSTART:20251026T010000
END:STANDARD
BEGIN:DAYLIGHT
TZOFFSETFROM:+0100
TZOFFSETTO:+0200
TZNAME:CEST
DTSTART:20260329T010000
END:DAYLIGHT
BEGIN:STANDARD
TZOFFSETFROM:+0200
TZOFFSETTO:+0100
TZNAME:CET
DTSTART:20261025T010000
END:STANDARD
BEGIN:DAYLIGHT
TZOFFSETFROM:+0100
TZOFFSETTO:+0200
TZNAME:CEST
DTSTART:20270328T010000
END:DAYLIGHT
BEGIN:STANDARD
TZOFFSETFROM:+0200
TZOFFSETTO:+0100
TZNAME:CET
DTSTART:20271031T010000
END:STANDARD
END:VTIMEZONE
BEGIN:VEVENT
DTSTART;TZID=Europe/Berlin:20260525T133000
DTEND;TZID=Europe/Berlin:20260525T163000
DTSTAMP:20260419T165009
CREATED:20250605T115917Z
LAST-MODIFIED:20250610T091136Z
UID:7672-1779715800-1779726600@www.mpz-dresden.de
SUMMARY:Digitalgestütztes Selbstlernen (Baustein 5)
DESCRIPTION:Allgemeines: \n\n\n\nIm Mittelpunkt der Fortbildung steht das Erstellen von Lernplänen für das Digitalgestützte Selbstlernen (DISEL) \n\n\n\nInhalte: \n\n\n\n\nOrganisation des digitalgestützten Selbstlernens\n\n\n\nLernwege digital erstellen mit LernSax\, Opal\, Fobizz und edumaps\n\n\n\nNutzung fertiger Lernwege wie E-learning Module\, bettermarks oder Fobizz\n\n\n\nErarbeitung eines eigenen Lernweges\n\n\n\n\n\n\n\n\nWann?\n\n\n\n\n\n\n\n\n\nWer?\n\n\n\n\n\n\n\n \n\n\n\nWo?\n\n\n\n\n\n\n\nHertha-Lindner-Str. 17 \n\n\n\n01067 Dresden \n\n\n\nRoutenplanung (Link zu graphhopper.com)
URL:https://www.mpz-dresden.de/event/digitalgestuetztes-selbstlernen-baustein-5-2/
LOCATION:MPZ Dresden\, Hertha-Lindner-Str. 17\, Dresden\, Saxony\, 01067\, Germany
CATEGORIES:Digitalgestütztes Selbstlernen
ATTACH;FMTTYPE=image/png:https://www.mpz-dresden.de/wp-content/uploads/2025/06/Featured-Images-Blog-5.png
ORGANIZER;CN="Per George":MAILTO:per.george@gagym.de
END:VEVENT
END:VCALENDAR