BEGIN:VCALENDAR
VERSION:2.0
PRODID:-//MPZ Dresden - ECPv6.15.20//NONSGML v1.0//EN
CALSCALE:GREGORIAN
METHOD:PUBLISH
X-ORIGINAL-URL:https://www.mpz-dresden.de
X-WR-CALDESC:Veranstaltungen für MPZ Dresden
REFRESH-INTERVAL;VALUE=DURATION:PT1H
X-Robots-Tag:noindex
X-PUBLISHED-TTL:PT1H
BEGIN:VTIMEZONE
TZID:Europe/Berlin
BEGIN:DAYLIGHT
TZOFFSETFROM:+0100
TZOFFSETTO:+0200
TZNAME:CEST
DTSTART:20250330T010000
END:DAYLIGHT
BEGIN:STANDARD
TZOFFSETFROM:+0200
TZOFFSETTO:+0100
TZNAME:CET
DTSTART:20251026T010000
END:STANDARD
BEGIN:DAYLIGHT
TZOFFSETFROM:+0100
TZOFFSETTO:+0200
TZNAME:CEST
DTSTART:20260329T010000
END:DAYLIGHT
BEGIN:STANDARD
TZOFFSETFROM:+0200
TZOFFSETTO:+0100
TZNAME:CET
DTSTART:20261025T010000
END:STANDARD
BEGIN:DAYLIGHT
TZOFFSETFROM:+0100
TZOFFSETTO:+0200
TZNAME:CEST
DTSTART:20270328T010000
END:DAYLIGHT
BEGIN:STANDARD
TZOFFSETFROM:+0200
TZOFFSETTO:+0100
TZNAME:CET
DTSTART:20271031T010000
END:STANDARD
END:VTIMEZONE
BEGIN:VEVENT
DTSTART;TZID=Europe/Berlin:20260528T093000
DTEND;TZID=Europe/Berlin:20260528T123000
DTSTAMP:20260419T164908
CREATED:20250605T115820Z
LAST-MODIFIED:20250610T091126Z
UID:7669-1779960600-1779971400@www.mpz-dresden.de
SUMMARY:Digitalgestütztes Selbstlernen (Baustein 5)
DESCRIPTION:Allgemeines: \n\n\n\nIm Mittelpunkt der Fortbildung steht das Erstellen von Lernplänen für das Digitalgestützte Selbstlernen (DISEL) \n\n\n\nInhalte: \n\n\n\n\nOrganisation des digitalgestützten Selbstlernens\n\n\n\nLernwege digital erstellen mit LernSax\, Opal\, Fobizz und edumaps\n\n\n\nNutzung fertiger Lernwege wie E-learning Module\, bettermarks oder Fobizz\n\n\n\nErarbeitung eines eigenen Lernweges\n\n\n\n\n\n\n\n\nWann?\n\n\n\n\n\n\n\n\n\nWer?\n\n\n\n\n\n\n\n \n\n\n\nWo?\n\n\n\n\n\n\n\nHertha-Lindner-Str. 17 \n\n\n\n01067 Dresden \n\n\n\nRoutenplanung (Link zu graphhopper.com)
URL:https://www.mpz-dresden.de/event/digitalgestuetztes-selbstlernen-baustein-5/
LOCATION:MPZ Dresden\, Hertha-Lindner-Str. 17\, Dresden\, Saxony\, 01067\, Germany
CATEGORIES:Digitalgestütztes Selbstlernen
ATTACH;FMTTYPE=image/png:https://www.mpz-dresden.de/wp-content/uploads/2025/06/Featured-Images-Blog-5.png
ORGANIZER;CN="Per George":MAILTO:per.george@gagym.de
END:VEVENT
BEGIN:VEVENT
DTSTART;TZID=Europe/Berlin:20260528T100000
DTEND;TZID=Europe/Berlin:20260528T150000
DTSTAMP:20260419T164908
CREATED:20260204T091133Z
LAST-MODIFIED:20260204T091135Z
UID:8705-1779962400-1779980400@www.mpz-dresden.de
SUMMARY:Digitale Tools für den kreativen Unterricht
DESCRIPTION:Allgemeines: \n\n\n\nTauchen Sie ein in die Welt der digitalen Bildung! In diesem Workshop erfahren Sie\, wie Sie mit LearningApps\, Worksheetcrafter\, Tutory und anderen innovativen Tools Ihren Unterricht fächerübergreifend\, interaktiv und kreativ gestalten können. Wir erkunden nicht nur die grundlegenden Funktionen dieser Anwendungen\, sondern entwickeln auch spannende Einsatzszenarien für den Unterricht. \n\n\n\nInhalte \n\n\n\n\nEntwicklung von Einsatzszenarien: Kreative Ideen für den Einsatz von Apps und webbasierten Anwendungen im Unterricht\n\n\n\nFunktionsweise von Arbeitsblattgeneratoren: Lernen Sie\, wie Sie Worksheetcrafter und Tutory nutzen\, um individuelle Arbeitsblätter zu erstellen\n\n\n\nSelbstlerntools im Fokus: Entdecken Sie die Einsatzmöglichkeiten von LearningView und LearningApps zur Förderung des eigenständigen Lernens\n\n\n\nWissenssicherung digital gestalten: Nutzen Sie Tools wie Kahoot und Plickers\, um das Wissen Ihrer Schüler spielerisch zu sichern und zu überprüfen\n\n\n\n\nZiele\n\n\n\n\nPraktische Anwendung: Sie lernen\, verschiedene Apps und webbasierte Angebote bedarfsgerecht in Ihrem Unterricht einzusetzen und verstehen deren grundlegende Funktionsweise und Anwendungsbreite.\n\n\n\nInteraktive Inhalte erstellen: Sie nutzen digitale Werkzeuge\, um zielgerichtete\, interaktive Unterrichtsmaterialien zu gestalten\, die das Lernen Ihrer Schüler fördern.\n\n\n\nÜberblick über digitale Möglichkeiten: Sie erhalten einen umfassenden Einblick in die vielfältigen Optionen und Angebote für interaktive Übungen\, die Sie mit mobilen Endgeräten umsetzen können.\n\n\n\n\nHinweise: \n\n\n\nBitte bringen Sie\, sofern verfügbar\, Ihr eigenes iPad sowie einen Apple Pencil zur Veranstaltung mit. \n\n\n\n\n\n\n\nWann?\n\n\n\n\n\n\n\n\n\nWer?\n\n\n\n\n\nWo?\n\n\n\n\n\n\n\nHertha-Lindner-Str. 17 \n\n\n\n01067 Dresden \n\n\n\nRoutenplanung (Link zu graphhopper.com)
URL:https://www.mpz-dresden.de/event/digitale-tools-fuer-den-kreativen-unterricht/
LOCATION:MPZ Dresden\, Hertha-Lindner-Str. 17\, Dresden\, Saxony\, 01067\, Germany
CATEGORIES:iPad - Workshop,Nützliche Apps & Tools
ATTACH;FMTTYPE=image/png:https://www.mpz-dresden.de/wp-content/uploads/2025/01/DOWNLOAD-3.png
ORGANIZER;CN="Andrea Bialas":MAILTO:andrea.bialas@mpz-dresden.de
END:VEVENT
END:VCALENDAR