BEGIN:VCALENDAR
VERSION:2.0
PRODID:-//MPZ Dresden - ECPv6.15.20//NONSGML v1.0//EN
CALSCALE:GREGORIAN
METHOD:PUBLISH
X-WR-CALNAME:MPZ Dresden
X-ORIGINAL-URL:https://www.mpz-dresden.de
X-WR-CALDESC:Veranstaltungen für MPZ Dresden
REFRESH-INTERVAL;VALUE=DURATION:PT1H
X-Robots-Tag:noindex
X-PUBLISHED-TTL:PT1H
BEGIN:VTIMEZONE
TZID:Europe/Berlin
BEGIN:DAYLIGHT
TZOFFSETFROM:+0100
TZOFFSETTO:+0200
TZNAME:CEST
DTSTART:20250330T010000
END:DAYLIGHT
BEGIN:STANDARD
TZOFFSETFROM:+0200
TZOFFSETTO:+0100
TZNAME:CET
DTSTART:20251026T010000
END:STANDARD
BEGIN:DAYLIGHT
TZOFFSETFROM:+0100
TZOFFSETTO:+0200
TZNAME:CEST
DTSTART:20260329T010000
END:DAYLIGHT
BEGIN:STANDARD
TZOFFSETFROM:+0200
TZOFFSETTO:+0100
TZNAME:CET
DTSTART:20261025T010000
END:STANDARD
BEGIN:DAYLIGHT
TZOFFSETFROM:+0100
TZOFFSETTO:+0200
TZNAME:CEST
DTSTART:20270328T010000
END:DAYLIGHT
BEGIN:STANDARD
TZOFFSETFROM:+0200
TZOFFSETTO:+0100
TZNAME:CET
DTSTART:20271031T010000
END:STANDARD
END:VTIMEZONE
BEGIN:VEVENT
DTSTART;TZID=Europe/Berlin:20260604T100000
DTEND;TZID=Europe/Berlin:20260604T150000
DTSTAMP:20260419T181030
CREATED:20260204T091232Z
LAST-MODIFIED:20260204T091235Z
UID:8707-1780567200-1780585200@www.mpz-dresden.de
SUMMARY:Digitale Medien im Unterricht: Präsentation und Lernvideos neu gedacht
DESCRIPTION:Allgemeines: \n\n\n\nDigitale Präsentationsmöglichkeiten und kreative Lernvideos knüpfen an die Lebenswelt der Schülerinnen und Schüler an und können den Unterricht fächerübergreifend medial bereichern. Im Fokus der Fortbildung steht der reflektierte Einsatz digitaler Medien. Sie lernen\, wie Sie Audio- und Video-Tools effektiv nutzen können\, um spannende Unterrichtseinheiten zu gestalten. Gemeinsam entwickeln wir konkrete Unterrichtsbeispiele\, die Ihre Schüler begeistern werden. \n\n\n\nInhalte: \n\n\n\n\nHands-on-Training mit innovativen Tools zur Audio- und Videoerstellung:\n\nKeyNote\n\n\n\nBildschirmaufnahmen\n\n\n\nStopMotion\n\n\n\nClips\n\n\n\nMy Simpleshow\n\n\n\n\n\nKennenlernen von Präsentationsanwendungen wie:\n\nKeynote\n\n\n\nCanva\n\n\n\nCraft\n\n\n\n\n\nStrategien zur Erstellung von Präsentationen und Lernvideos gemeinsam mit Ihren Schülern entwickeln\n\n\n\n\n\n\n\n\nWann?\n\n\n\n\n\n\n\n\n\nWer?\n\n\n\n\n\nWo?\n\n\n\n\n\n\n\nHertha-Lindner-Str. 17 \n\n\n\n01067 Dresden \n\n\n\nRoutenplanung (Link zu graphhopper.com)
URL:https://www.mpz-dresden.de/event/digitale-medien-im-unterricht-praesentation-und-lernvideos-neu-gedacht/
LOCATION:MPZ Dresden\, Hertha-Lindner-Str. 17\, Dresden\, Saxony\, 01067\, Germany
CATEGORIES:iPad - Workshop,Nützliche Apps & Tools
ATTACH;FMTTYPE=image/png:https://www.mpz-dresden.de/wp-content/uploads/2025/01/DOWNLOAD-5.png
ORGANIZER;CN="Andrea Bialas":MAILTO:andrea.bialas@mpz-dresden.de
END:VEVENT
BEGIN:VEVENT
DTSTART;TZID=Europe/Berlin:20260604T133000
DTEND;TZID=Europe/Berlin:20260604T153000
DTSTAMP:20260419T181030
CREATED:20251002T084954Z
LAST-MODIFIED:20251002T084957Z
UID:8253-1780579800-1780587000@www.mpz-dresden.de
SUMMARY:Kein Backup - kein Mitleid: Datenschutzkonformes Arbeiten am Windows-PC
DESCRIPTION:SCHWERPUNKT – inkrementelle Backups mit Duplicati \n\n\n\nInhalte: \n\n\n\n\npersönliche Backup-Strategie mit Duplicati umsetzen\n\n\n\neinzelne Dateien verschlüsseln mit 7zip\n\n\n\nVerschlüsseln von USB-Sticks mit Bitlocker\n\n\n\n\nInfo BoxBitte bringen Sie ein geeignetes Backup-Medium mit. Im Idealfall eine externe SSD\, doch auch ein USB-Stick mit hinreichend (natürlich Abhängig vom Umfang der zu sichernden Daten) Speicherplatz sollte genügen. \n\n\n\n\n\n\n\nWann?\n\n\n\n\n\n\n\n\n\nWer?\n\n\n\n\n\nWo?\n\n\n\n\n\n\n\nHertha-Lindner-Str. 17 \n\n\n\n01067 Dresden \n\n\n\nRoutenplanung (Link zu graphhopper.com)
URL:https://www.mpz-dresden.de/event/kein-backup-kein-mitleid-datenschutzkonformes-arbeiten-am-windows-pc/
LOCATION:MPZ Dresden\, Hertha-Lindner-Str. 17\, Dresden\, Saxony\, 01067\, Germany
CATEGORIES:Nützliche Apps & Tools
ATTACH;FMTTYPE=image/png:https://www.mpz-dresden.de/wp-content/uploads/2025/10/back-up-plan_800x400.png
ORGANIZER;CN="Helge Fleischer":MAILTO:helge.fleischer@mpz-dresden.lernsax.de
END:VEVENT
END:VCALENDAR