BEGIN:VCALENDAR
VERSION:2.0
PRODID:-//MPZ Dresden - ECPv6.15.20//NONSGML v1.0//EN
CALSCALE:GREGORIAN
METHOD:PUBLISH
X-ORIGINAL-URL:https://www.mpz-dresden.de
X-WR-CALDESC:Veranstaltungen für MPZ Dresden
REFRESH-INTERVAL;VALUE=DURATION:PT1H
X-Robots-Tag:noindex
X-PUBLISHED-TTL:PT1H
BEGIN:VTIMEZONE
TZID:Europe/Berlin
BEGIN:DAYLIGHT
TZOFFSETFROM:+0100
TZOFFSETTO:+0200
TZNAME:CEST
DTSTART:20230326T010000
END:DAYLIGHT
BEGIN:STANDARD
TZOFFSETFROM:+0200
TZOFFSETTO:+0100
TZNAME:CET
DTSTART:20231029T010000
END:STANDARD
BEGIN:DAYLIGHT
TZOFFSETFROM:+0100
TZOFFSETTO:+0200
TZNAME:CEST
DTSTART:20240331T010000
END:DAYLIGHT
BEGIN:STANDARD
TZOFFSETFROM:+0200
TZOFFSETTO:+0100
TZNAME:CET
DTSTART:20241027T010000
END:STANDARD
BEGIN:DAYLIGHT
TZOFFSETFROM:+0100
TZOFFSETTO:+0200
TZNAME:CEST
DTSTART:20250330T010000
END:DAYLIGHT
BEGIN:STANDARD
TZOFFSETFROM:+0200
TZOFFSETTO:+0100
TZNAME:CET
DTSTART:20251026T010000
END:STANDARD
END:VTIMEZONE
BEGIN:VEVENT
DTSTART;TZID=Europe/Berlin:20241107T100000
DTEND;TZID=Europe/Berlin:20241107T150000
DTSTAMP:20260421T114313
CREATED:20241030T151853Z
LAST-MODIFIED:20241203T121837Z
UID:5529-1730973600-1730991600@www.mpz-dresden.de
SUMMARY:iPad Baustein 3 - Unterrichten mit mobilen Endgeräten
DESCRIPTION:Inhalte: \n\n\n\n\nverschiedene digitale Präsentationsmöglichkeiten und deren Funktionsumfang kennen\, auswählen sowie diese kreativ\, reflektiert und zielgerichtet einsetzen\n\n\n\nPräsentationen und Lernvideos mit einem digitalen Endgerät erstellen\n\n\n\nStrategien zur Erstellung von Präsentationen mit Schülern\n\n\n\nTipps für den Einsatz im Unterricht\n\n\n\nVor- und Nachteile einiger Präsentationsarten\n\n\n\n\n\n\n\n\nDatum und Uhrzeit\n\n\n\n\n\n\n\n\n\nIhr Dozent\n\n\n\n\n\nVeranstaltungsort
URL:https://www.mpz-dresden.de/event/ipad-baustein-3-unterrichten-mit-mobilen-endgeraeten-2/
LOCATION:MPZ Dresden\, Hertha-Lindner-Str. 17\, Dresden\, Saxony\, 01067\, Germany
CATEGORIES:iPad - Workshop
ATTACH;FMTTYPE=image/jpeg:https://www.mpz-dresden.de/wp-content/uploads/2024/10/pexels-olia-danilevich-508802111.jpg
END:VEVENT
BEGIN:VEVENT
DTSTART;TZID=Europe/Berlin:20241114T100000
DTEND;TZID=Europe/Berlin:20241114T150000
DTSTAMP:20260421T114313
CREATED:20241030T151616Z
LAST-MODIFIED:20241203T121853Z
UID:5527-1731578400-1731596400@www.mpz-dresden.de
SUMMARY:iPad Baustein 4 - Lernen mit mobilen Endgeräten
DESCRIPTION:SCHWERPUNKT – Learning Apps \n\n\n\nInhalte: \n\n\n\n\nStrategien zum Einsatz von Tablets im Unterricht\n\n\n\nVorstellen verschiedener Apps und webbasierende Anwendungen zum eigenen Gestalten des Unterrichts\, zum Selbstlernen und kollaborativen Arbeiten\, kreativen und produktiven Unterricht\, zur Lernerfolgskontrolle\n\n\n\nErarbeitung von Unterrichtsbeispielen bzw. Unterrichtsequenzen mit dem Tablet\n\n\n\nKI Systeme\n\n\n\n\n\n\n\n\nDatum und Uhrzeit\n\n\n\n\n\n\n\n\n\nIhr Dozent\n\n\n\n\n\nVeranstaltungsort
URL:https://www.mpz-dresden.de/event/ipad-baustein-3-unterrichten-mit-mobilen-endgeraeten/
LOCATION:MPZ Dresden\, Hertha-Lindner-Str. 17\, Dresden\, Saxony\, 01067\, Germany
CATEGORIES:iPad - Workshop
ATTACH;FMTTYPE=image/jpeg:https://www.mpz-dresden.de/wp-content/uploads/2024/10/pexels-olia-danilevich-508802111.jpg
ORGANIZER;CN="Andrea Bialas":MAILTO:andrea.bialas@mpz-dresden.de
END:VEVENT
END:VCALENDAR