BEGIN:VCALENDAR
VERSION:2.0
PRODID:-//MPZ Dresden - ECPv6.15.20//NONSGML v1.0//EN
CALSCALE:GREGORIAN
METHOD:PUBLISH
X-WR-CALNAME:MPZ Dresden
X-ORIGINAL-URL:https://www.mpz-dresden.de
X-WR-CALDESC:Veranstaltungen für MPZ Dresden
REFRESH-INTERVAL;VALUE=DURATION:PT1H
X-Robots-Tag:noindex
X-PUBLISHED-TTL:PT1H
BEGIN:VTIMEZONE
TZID:Europe/Berlin
BEGIN:DAYLIGHT
TZOFFSETFROM:+0100
TZOFFSETTO:+0200
TZNAME:CEST
DTSTART:20250330T010000
END:DAYLIGHT
BEGIN:STANDARD
TZOFFSETFROM:+0200
TZOFFSETTO:+0100
TZNAME:CET
DTSTART:20251026T010000
END:STANDARD
BEGIN:DAYLIGHT
TZOFFSETFROM:+0100
TZOFFSETTO:+0200
TZNAME:CEST
DTSTART:20260329T010000
END:DAYLIGHT
BEGIN:STANDARD
TZOFFSETFROM:+0200
TZOFFSETTO:+0100
TZNAME:CET
DTSTART:20261025T010000
END:STANDARD
BEGIN:DAYLIGHT
TZOFFSETFROM:+0100
TZOFFSETTO:+0200
TZNAME:CEST
DTSTART:20270328T010000
END:DAYLIGHT
BEGIN:STANDARD
TZOFFSETFROM:+0200
TZOFFSETTO:+0100
TZNAME:CET
DTSTART:20271031T010000
END:STANDARD
END:VTIMEZONE
BEGIN:VEVENT
DTSTART;TZID=Europe/Berlin:20260917T140000
DTEND;TZID=Europe/Berlin:20260917T170000
DTSTAMP:20260419T194308
CREATED:20260303T125951Z
LAST-MODIFIED:20260303T130101Z
UID:8773-1789653600-1789664400@www.mpz-dresden.de
SUMMARY:Praxisperlen #Forum Digitale Schule
DESCRIPTION:4. Regionalveranstaltung für Dresdner Schulen\n\n\n\nKonkretes haben wir noch nicht\, aber es wird garantiert wieder kurzweilig und inspirierend! Wir halten Sie auf dem Laufenden mit unserem Newsletter\, aber Sie dürfen sich gern schon anmelden! \n\n\n\n \n\n\n\nSie möchten selbst eine Praxisperle vorstellen?\n\n\n\nDann melden Sie sich gern bei uns und stellen Ihr Projekt in folgendem Formular kurz vor. Wir melden uns zeitnah bei Ihnen!  \n\n\n\n\n  \n\n\n\n\n	\n		Ihr Name *\n		 \n		\n		 \n	\n	\n		Ihre Emailadresse *\n		 \n		\n		 \n	\n	\n		Ihre Telefonnummer zur Rücksprache\n		 \n		\n		 \n	\n	\n		Ihre Schule\n		 \n		\n		 \n	\n	\n		Ihre Praxisperle (kurze Beschreibung)*\n		 \n		\n		 \n	\n	\n		Mit dem Versenden dieser Nachricht stimmen Sie den Bedingungen der Datenverarbeitung unserer Datenschutzerklärung zu. *\n		 \n	\n	\n		*Pflichtfelder\n		 \n	\n	\n		\n		 \n	\n\n\n\n\n\n\n\n\n\nWann?\n\n\n\n\n\n\n\n\n\nWer?\n\n\n\n\n\nAnsprechpartnerin\n\n\n\n\n\nWo?\n\n\n\n\n\n\n\nHertha-Lindner-Str. 17 \n\n\n\n01067 Dresden \n\n\n\nRoutenplanung (Link zu graphhopper.com)
URL:https://www.mpz-dresden.de/event/praxisperlen-forum-digitale-schule/
LOCATION:MPZ Dresden\, Hertha-Lindner-Str. 17\, Dresden\, Saxony\, 01067\, Germany
CATEGORIES:Anwendertreffen
ATTACH;FMTTYPE=image/png:https://www.mpz-dresden.de/wp-content/uploads/2026/01/Black-Modern-Back-to-School-Flyer1.png
ORGANIZER;CN="Stephanie Schmidt":MAILTO:stephanie.schmidt@mpz-dresden.de
END:VEVENT
END:VCALENDAR