BEGIN:VCALENDAR
VERSION:2.0
PRODID:-//MPZ Dresden - ECPv6.15.20//NONSGML v1.0//EN
CALSCALE:GREGORIAN
METHOD:PUBLISH
X-ORIGINAL-URL:https://www.mpz-dresden.de
X-WR-CALDESC:Veranstaltungen für MPZ Dresden
REFRESH-INTERVAL;VALUE=DURATION:PT1H
X-Robots-Tag:noindex
X-PUBLISHED-TTL:PT1H
BEGIN:VTIMEZONE
TZID:Europe/Berlin
BEGIN:DAYLIGHT
TZOFFSETFROM:+0100
TZOFFSETTO:+0200
TZNAME:CEST
DTSTART:20260329T010000
END:DAYLIGHT
BEGIN:STANDARD
TZOFFSETFROM:+0200
TZOFFSETTO:+0100
TZNAME:CET
DTSTART:20261025T010000
END:STANDARD
BEGIN:DAYLIGHT
TZOFFSETFROM:+0100
TZOFFSETTO:+0200
TZNAME:CEST
DTSTART:20270328T010000
END:DAYLIGHT
BEGIN:STANDARD
TZOFFSETFROM:+0200
TZOFFSETTO:+0100
TZNAME:CET
DTSTART:20271031T010000
END:STANDARD
BEGIN:DAYLIGHT
TZOFFSETFROM:+0100
TZOFFSETTO:+0200
TZNAME:CEST
DTSTART:20280326T010000
END:DAYLIGHT
BEGIN:STANDARD
TZOFFSETFROM:+0200
TZOFFSETTO:+0100
TZNAME:CET
DTSTART:20281029T010000
END:STANDARD
END:VTIMEZONE
BEGIN:VEVENT
DTSTART;TZID=Europe/Berlin:20270317T140000
DTEND;TZID=Europe/Berlin:20270317T170000
DTSTAMP:20260420T043247
CREATED:20260317T124409Z
LAST-MODIFIED:20260317T124412Z
UID:8856-1805292000-1805302800@www.mpz-dresden.de
SUMMARY:Vom Schummeltool zum Lernpartner: Impulse für eine neue Aufgaben- und Bewertungskultur im KI-Zeitalter #HYBRID
DESCRIPTION:Info BoxBitte geben Sie bei der Anmeldung unter Anmerkungen an\, ob Sie online oder in Präsenz teilnehmen möchten. \n\n\n\n\n\n\n\n\n\n\n\nHand aufs Herz: Wenn eine KI in drei Minuten das erledigt\, wofür Schülerinnen und Schüler früher einen Abend gebraucht hätten – warum sollten sie es dann noch selbst tun? Ganz ehrlich: aus Sicht der SuS macht das oft sogar Sinn. \n\n\n\nDie eigentliche Frage ist also nicht\, wie wir KI-Nutzung verhindern. Sondern wie wir Aufgaben gestalten\, bei denen es sich lohnt\, selbst zu denken – weil KI allein eben nicht reicht. \n\n\n\n🧩 Erster Termin – Aufgabenkultur – 27. Januar 2027\n\n\n\nGenau darum geht es in dieser dreiteiligen Fortbildung. Im ersten Teil entwickeln wir gemeinsam ein Gefühl dafür\, welche Aufgaben im KI-Zeitalter noch wirklich Lernprozesse anstoßen – und wie man sie so formuliert und einbettet\, dass SuS ins Denken kommen und Lust haben\, das auch zu tun. \n\n\n\n📊 Zweiter Termin – Bewertungskultur – 3. Februar 2027\n\n\n\nIm zweiten Teil schauen wir auf die Bewertung: Wie lässt sich sichtbar machen\, was Schülerinnen und Schüler wirklich geleistet haben? Sie entwickeln eine erste eigene Projektidee für Ihren Unterricht und einen Ansatz\, wie sich das bewerten lässt. \n\n\n\n🔍 Dritter Termin – Evaluation – 17. März 2027\n\n\n\nNach ein paar Wochen Praxis im echten Unterricht kommen wir im dritten Teil zusammen: Wie war’s? Was hat gezündet\, was nicht? Wir tauschen Materialien aus\, schauen uns gegenseitig auf die Projekte und überlegen gemeinsam\, was sich davon im Schulalltag wirklich tragen lässt. \n\n\n\n\n\n\n\nDiese Fortbildung ist Teil der Reihe „Vom Schummeltool zum Lernpartner“\n\n\n\nSuchen Sie einen Workshop\, der sich direkt an Ihre Schülerinnen und Schüler richtet? Mit dem Basis-Workshop für Schülerinnen und Schüler in dieser Reihe lernen SuS\, KI als echten Lernpartner zu nutzen. Hier buchen. \n\n\n\n\n\n\n\nWann?\n\n\n\n\n\n\n\n\n\nAchtung: Die Anmeldung erfolgt über den ersten Termin am 27. Januar 2027. Einfach hier klicken! \n\n\n\nWer?\n\n\n\n\n\nWo?\n\n\n\n\n\n\n\nHertha-Lindner-Str. 17 \n\n\n\n01067 Dresden \n\n\n\nRoutenplanung (Link zu graphhopper.com)
URL:https://www.mpz-dresden.de/event/vom-schummeltool-zum-lernpartner-impulse-fuer-eine-neue-aufgaben-und-bewertungskultur-im-ki-zeitalter-hybrid-6/
LOCATION:MPZ Dresden\, Hertha-Lindner-Str. 17\, Dresden\, Saxony\, 01067\, Germany
CATEGORIES:KI in der Schule
ATTACH;FMTTYPE=image/png:https://www.mpz-dresden.de/wp-content/uploads/2025/11/Featured-Images-Blog-12.png
ORGANIZER;CN="Stephanie Schmidt":MAILTO:stephanie.schmidt@mpz-dresden.de
END:VEVENT
END:VCALENDAR